BEGIN:VCALENDAR
VERSION:2.0
PRODID:-//hacksw/handcal//NONSGML v1.0//EN
BEGIN:VEVENT
SUMMARY:28eme CHALLENGE AIME BROUSTE
UID:ef1cef74-20e3-4534-8c1b-0336f6373283
DTSTART:20260424T220000Z
DTEND:20260426T220000Z
LOCATION:Localisation   
CATEGORIES:Sportif
STATUS:
DESCRIPTION:<p>https://girondins-natation.com/wp-content/uploads/2026/02/Brouste28-LNA.pdf</p>
 
 <p> </p>
 
 <p>https://www.liveffn.com/cgi-bin/programme.php?competition=93117&langue=fra</p>
URL;VALUE=URI:https://www.natationbiscarrosse.fr/evenements/2026/04/25/28eme-challenge-aime-brouste-2440051
END:VEVENT
END:VCALENDAR
